Package: SimBu Version: 1.11.0 Command: rm -rf SimBu.buildbin-libdir && mkdir SimBu.buildbin-libdir && F:\biocbuild\bbs-3.22-bioc\R\bin\R.exe CMD INSTALL --build --library=SimBu.buildbin-libdir SimBu_1.11.0.tar.gz StartedAt: 2025-08-15 11:20:18 -0400 (Fri, 15 Aug 2025) EndedAt: 2025-08-15 11:20:41 -0400 (Fri, 15 Aug 2025) EllapsedTime: 23.4 seconds RetCode: 0 Status: OK PackageFile: SimBu_1.11.0.zip PackageFileSize: 230.2 KiB