Package: SimBu Version: 1.9.0 Command: /home/biocbuild/bbs-3.21-bioc/R/bin/R CMD check --install=check:SimBu.install-out.txt --library=/home/biocbuild/bbs-3.21-bioc/R/site-library --timings SimBu_1.9.0.tar.gz StartedAt: 2025-02-04 02:46:44 -0500 (Tue, 04 Feb 2025) EndedAt: 2025-02-04 02:50:21 -0500 (Tue, 04 Feb 2025) EllapsedTime: 216.3 seconds RetCode: 0 Status: OK CheckDir: SimBu.Rcheck Warnings: 0