Package: SimBu Version: 1.9.0 Command: /home/biocbuild/R/R/bin/R CMD INSTALL SimBu StartedAt: 2025-01-29 20:22:43 -0000 (Wed, 29 Jan 2025) EndedAt: 2025-01-29 20:22:50 -0000 (Wed, 29 Jan 2025) EllapsedTime: 7.2 seconds RetCode: 0 Status: OK