Package: SimBu Version: 1.9.0 Command: /home/biocbuild/R/R/bin/R CMD build --keep-empty-dirs --no-resave-data SimBu StartedAt: 2025-01-29 02:22:13 -0000 (Wed, 29 Jan 2025) EndedAt: 2025-01-29 02:23:09 -0000 (Wed, 29 Jan 2025) EllapsedTime: 56.1 seconds RetCode: 0 Status: OK PackageFile: SimBu_1.9.0.tar.gz PackageFileSize: 135.9 KiB