Package: SigFuge Version: 1.47.0 Command: /home/biocbuild/R/R/bin/R CMD build --keep-empty-dirs --no-resave-data SigFuge StartedAt: 2025-10-03 03:13:06 -0000 (Fri, 03 Oct 2025) EndedAt: 2025-10-03 03:13:55 -0000 (Fri, 03 Oct 2025) EllapsedTime: 49.0 seconds RetCode: 1 Status: ERROR PackageFile: None PackageFileSize: NA