Package: SigFuge Version: 1.45.0 Command: /home/biocbuild/bbs-3.21-bioc/R/bin/R CMD build --keep-empty-dirs --no-resave-data SigFuge StartedAt: 2025-02-16 19:10:53 -0500 (Sun, 16 Feb 2025) EndedAt: 2025-02-16 19:11:44 -0500 (Sun, 16 Feb 2025) EllapsedTime: 51.1 seconds RetCode: 0 Status: OK PackageFile: SigFuge_1.45.0.tar.gz PackageFileSize: 1.458 MiB