Package: SiPSiC Version: 1.7.0 Command: E:\biocbuild\bbs-3.21-bioc\R\bin\R.exe CMD INSTALL SiPSiC StartedAt: 2025-01-10 16:30:41 -0500 (Fri, 10 Jan 2025) EndedAt: 2025-01-10 16:31:05 -0500 (Fri, 10 Jan 2025) EllapsedTime: 24.5 seconds RetCode: 0 Status: OK