Package: SiPSiC Version: 1.9.0 Command: /home/biocbuild/bbs-3.22-bioc/R/bin/R CMD INSTALL SiPSiC StartedAt: 2025-10-06 15:20:40 -0400 (Mon, 06 Oct 2025) EndedAt: 2025-10-06 15:21:03 -0400 (Mon, 06 Oct 2025) EllapsedTime: 22.6 seconds RetCode: 0 Status: OK