Package: SiPSiC Version: 1.9.0 Command: /home/biocbuild/bbs-3.22-bioc/R/bin/R CMD build --keep-empty-dirs --no-resave-data --md5 SiPSiC StartedAt: 2025-10-06 20:07:15 -0400 (Mon, 06 Oct 2025) EndedAt: 2025-10-06 20:07:47 -0400 (Mon, 06 Oct 2025) EllapsedTime: 32.0 seconds RetCode: 0 Status: OK PackageFile: SiPSiC_1.9.0.tar.gz PackageFileSize: 237.6 KiB