Package: ShortRead Version: 1.67.1 Command: chmod a+r ShortRead -R && F:\biocbuild\bbs-3.22-bioc\R\bin\R.exe CMD build --keep-empty-dirs --no-resave-data ShortRead StartedAt: 2025-08-14 23:16:31 -0400 (Thu, 14 Aug 2025) EndedAt: 2025-08-14 23:19:36 -0400 (Thu, 14 Aug 2025) EllapsedTime: 184.8 seconds RetCode: 0 Status: OK PackageFile: ShortRead_1.67.1.tar.gz PackageFileSize: 5.06 MiB