Package: ShortRead Version: 1.67.1 Command: rm -rf ShortRead.buildbin-libdir && mkdir ShortRead.buildbin-libdir && F:\biocbuild\bbs-3.22-bioc\R\bin\R.exe CMD INSTALL --build --library=ShortRead.buildbin-libdir ShortRead_1.67.1.tar.gz StartedAt: 2025-08-15 11:19:19 -0400 (Fri, 15 Aug 2025) EndedAt: 2025-08-15 11:23:25 -0400 (Fri, 15 Aug 2025) EllapsedTime: 245.7 seconds RetCode: 0 Status: OK PackageFile: ShortRead_1.67.1.zip PackageFileSize: 5.595 MiB