Package: ShortRead Version: 1.67.0 Maintainer: Bioconductor Package Maintainer MaintainerEmail: maintainer at bioconductor.org git_url: https://git.bioconductor.org/packages/ShortRead git_branch: devel git_last_commit: e1d178e git_last_commit_date: 2025-04-15 09:42:02 -0400 (Tue, 15 Apr 2025)