Package: Seqinfo Version: 0.99.2 Command: /home/biocbuild/bbs-3.22-bioc/R/bin/R CMD INSTALL Seqinfo StartedAt: 2025-10-06 15:13:49 -0400 (Mon, 06 Oct 2025) EndedAt: 2025-10-06 15:14:01 -0400 (Mon, 06 Oct 2025) EllapsedTime: 11.6 seconds RetCode: 0 Status: OK