Package: Seqinfo Version: 0.99.2 Command: /home/biocbuild/bbs-3.22-bioc/R/bin/R CMD build --keep-empty-dirs --no-resave-data --md5 Seqinfo StartedAt: 2025-10-06 20:01:10 -0400 (Mon, 06 Oct 2025) EndedAt: 2025-10-06 20:01:37 -0400 (Mon, 06 Oct 2025) EllapsedTime: 27.0 seconds RetCode: 0 Status: OK PackageFile: Seqinfo_0.99.2.tar.gz PackageFileSize: 248.3 KiB