Package: Seqinfo Version: 1.1.0 Command: /home/biocbuild/bbs-3.23-bioc/R/bin/R CMD INSTALL Seqinfo StartedAt: 2025-11-24 15:13:40 -0500 (Mon, 24 Nov 2025) EndedAt: 2025-11-24 15:13:49 -0500 (Mon, 24 Nov 2025) EllapsedTime: 8.9 seconds RetCode: 0 Status: OK