Package: Seqinfo Version: 1.1.0 Command: /home/biocbuild/bbs-3.23-bioc/R/bin/R CMD build --keep-empty-dirs --no-resave-data Seqinfo StartedAt: 2025-11-24 20:02:50 -0500 (Mon, 24 Nov 2025) EndedAt: 2025-11-24 20:03:15 -0500 (Mon, 24 Nov 2025) EllapsedTime: 25.0 seconds RetCode: 0 Status: OK PackageFile: Seqinfo_1.1.0.tar.gz PackageFileSize: 247.6 KiB