Package: Seqinfo Version: 1.1.0 Command: /Library/Frameworks/R.framework/Resources/bin/R CMD build --keep-empty-dirs --no-resave-data Seqinfo StartedAt: 2025-11-25 18:53:14 -0500 (Tue, 25 Nov 2025) EndedAt: 2025-11-25 18:53:43 -0500 (Tue, 25 Nov 2025) EllapsedTime: 29.7 seconds RetCode: 0 Status: OK PackageFile: Seqinfo_1.1.0.tar.gz PackageFileSize: 247.5 KiB