Package: Seqinfo Version: 1.1.0 Command: rm -rf Seqinfo.buildbin-libdir && mkdir Seqinfo.buildbin-libdir && /Users/biocbuild/BBS/utils/build-universal.sh Seqinfo_1.1.0.tar.gz /Library/Frameworks/R.framework/Resources/bin/R Seqinfo.buildbin-libdir StartedAt: 2025-11-26 02:09:22 -0500 (Wed, 26 Nov 2025) EndedAt: 2025-11-26 02:09:39 -0500 (Wed, 26 Nov 2025) EllapsedTime: 17.3 seconds RetCode: 0 Status: OK PackageFile: Seqinfo_1.1.0.tgz PackageFileSize: 627.6 KiB