Package: Seqinfo Version: 1.1.0 Command: /Library/Frameworks/R.framework/Resources/bin/R CMD build --keep-empty-dirs --no-resave-data Seqinfo StartedAt: 2025-11-14 17:38:52 -0500 (Fri, 14 Nov 2025) EndedAt: 2025-11-14 17:39:02 -0500 (Fri, 14 Nov 2025) EllapsedTime: 10.1 seconds RetCode: 0 Status: OK PackageFile: Seqinfo_1.1.0.tar.gz PackageFileSize: 247.5 KiB