Package: Seqinfo Version: 1.1.0 Command: rm -rf Seqinfo.buildbin-libdir && mkdir Seqinfo.buildbin-libdir && /Users/biocbuild/BBS/utils/build-universal.sh Seqinfo_1.1.0.tar.gz /Library/Frameworks/R.framework/Resources/bin/R Seqinfo.buildbin-libdir StartedAt: 2025-11-13 23:56:30 -0500 (Thu, 13 Nov 2025) EndedAt: 2025-11-13 23:56:35 -0500 (Thu, 13 Nov 2025) EllapsedTime: 5.1 seconds RetCode: 0 Status: OK PackageFile: Seqinfo_1.1.0.tgz PackageFileSize: 628 KiB