Package: SeqGate Version: 1.19.0 Command: rm -rf SeqGate.buildbin-libdir && mkdir SeqGate.buildbin-libdir && F:\biocbuild\bbs-3.22-bioc\R\bin\R.exe CMD INSTALL --build --library=SeqGate.buildbin-libdir SeqGate_1.19.0.tar.gz StartedAt: 2025-08-15 11:17:59 -0400 (Fri, 15 Aug 2025) EndedAt: 2025-08-15 11:18:23 -0400 (Fri, 15 Aug 2025) EllapsedTime: 24.2 seconds RetCode: 0 Status: OK PackageFile: SeqGate_1.19.0.zip PackageFileSize: 269.5 KiB