Package: SeqGate Version: 1.17.0 Command: /Library/Frameworks/R.framework/Resources/bin/R CMD check --install=check:SeqGate.install-out.txt --library=/Library/Frameworks/R.framework/Resources/library --no-vignettes --timings SeqGate_1.17.0.tar.gz StartedAt: 2025-01-10 23:09:52 -0500 (Fri, 10 Jan 2025) EndedAt: 2025-01-10 23:12:37 -0500 (Fri, 10 Jan 2025) EllapsedTime: 164.7 seconds RetCode: 0 Status: OK CheckDir: SeqGate.Rcheck Warnings: 0