Package: SeqGSEA Version: 1.47.0 Command: E:\biocbuild\bbs-3.21-bioc\R\bin\R.exe CMD INSTALL SeqGSEA StartedAt: 2025-02-02 16:06:52 -0500 (Sun, 02 Feb 2025) EndedAt: 2025-02-02 16:07:47 -0500 (Sun, 02 Feb 2025) EllapsedTime: 54.5 seconds RetCode: 0 Status: OK