Package: SeqGSEA Version: 1.47.0 Command: E:\biocbuild\bbs-3.21-bioc\R\bin\R.exe CMD check --no-multiarch --install=check:SeqGSEA.install-out.txt --library=E:\biocbuild\bbs-3.21-bioc\R\library --no-vignettes --timings SeqGSEA_1.47.0.tar.gz StartedAt: 2025-02-06 05:50:37 -0500 (Thu, 06 Feb 2025) EndedAt: 2025-02-06 05:57:17 -0500 (Thu, 06 Feb 2025) EllapsedTime: 399.5 seconds RetCode: 0 Status: OK CheckDir: SeqGSEA.Rcheck Warnings: 0