Package: SeqGSEA Version: 1.47.0 Command: chmod a+r SeqGSEA -R && E:\biocbuild\bbs-3.21-bioc\R\bin\R.exe CMD build --keep-empty-dirs --no-resave-data SeqGSEA StartedAt: 2025-02-02 21:33:30 -0500 (Sun, 02 Feb 2025) EndedAt: 2025-02-02 21:36:29 -0500 (Sun, 02 Feb 2025) EllapsedTime: 178.9 seconds RetCode: 0 Status: OK PackageFile: SeqGSEA_1.47.0.tar.gz PackageFileSize: 1.115 MiB