Package: SeqGSEA Version: 1.47.0 Command: rm -rf SeqGSEA.buildbin-libdir && mkdir SeqGSEA.buildbin-libdir && E:\biocbuild\bbs-3.21-bioc\R\bin\R.exe CMD INSTALL --build --library=SeqGSEA.buildbin-libdir SeqGSEA_1.47.0.tar.gz StartedAt: 2025-02-06 09:01:04 -0500 (Thu, 06 Feb 2025) EndedAt: 2025-02-06 09:02:13 -0500 (Thu, 06 Feb 2025) EllapsedTime: 69.0 seconds RetCode: 0 Status: OK PackageFile: SeqGSEA_1.47.0.zip PackageFileSize: 1.583 MiB