Package: SeqGSEA Version: 1.49.0 Command: /home/biocbuild/bbs-3.22-bioc/R/bin/R CMD INSTALL SeqGSEA StartedAt: 2025-10-01 15:31:02 -0400 (Wed, 01 Oct 2025) EndedAt: 2025-10-01 15:31:44 -0400 (Wed, 01 Oct 2025) EllapsedTime: 42.1 seconds RetCode: 0 Status: OK