Package: SeqGSEA Version: 1.49.0 Command: /home/biocbuild/bbs-3.22-bioc/R/bin/R CMD build --keep-empty-dirs --no-resave-data --md5 SeqGSEA StartedAt: 2025-10-01 20:23:54 -0400 (Wed, 01 Oct 2025) EndedAt: 2025-10-01 20:26:31 -0400 (Wed, 01 Oct 2025) EllapsedTime: 156.1 seconds RetCode: 0 Status: OK PackageFile: SeqGSEA_1.49.0.tar.gz PackageFileSize: 1.709 MiB