Package: SeqGSEA Version: 1.47.0 Command: /home/biocbuild/bbs-3.21-bioc/R/bin/R CMD INSTALL SeqGSEA StartedAt: 2025-02-03 15:34:24 -0500 (Mon, 03 Feb 2025) EndedAt: 2025-02-03 15:34:56 -0500 (Mon, 03 Feb 2025) EllapsedTime: 32.3 seconds RetCode: 0 Status: OK