Package: SeqGSEA Version: 1.47.0 Command: /home/biocbuild/bbs-3.21-bioc/R/bin/R CMD check --install=check:SeqGSEA.install-out.txt --library=/home/biocbuild/bbs-3.21-bioc/R/site-library --timings SeqGSEA_1.47.0.tar.gz StartedAt: 2025-02-04 02:41:23 -0500 (Tue, 04 Feb 2025) EndedAt: 2025-02-04 02:48:27 -0500 (Tue, 04 Feb 2025) EllapsedTime: 423.8 seconds RetCode: 0 Status: OK CheckDir: SeqGSEA.Rcheck Warnings: 0