Package: ScreenR Version: 1.11.0 Command: /home/biocbuild/R/R/bin/R CMD build --keep-empty-dirs --no-resave-data ScreenR StartedAt: 2025-10-21 03:00:07 -0000 (Tue, 21 Oct 2025) EndedAt: 2025-10-21 03:01:47 -0000 (Tue, 21 Oct 2025) EllapsedTime: 100.0 seconds RetCode: 0 Status: OK PackageFile: ScreenR_1.11.0.tar.gz PackageFileSize: 1.67 MiB