Package: ScreenR Version: 1.11.0 Command: rm -rf ScreenR.buildbin-libdir && mkdir ScreenR.buildbin-libdir && F:\biocbuild\bbs-3.22-bioc\R\bin\R.exe CMD INSTALL --build --library=ScreenR.buildbin-libdir ScreenR_1.11.0.tar.gz StartedAt: 2025-08-15 11:16:39 -0400 (Fri, 15 Aug 2025) EndedAt: 2025-08-15 11:17:15 -0400 (Fri, 15 Aug 2025) EllapsedTime: 36.2 seconds RetCode: 0 Status: OK PackageFile: ScreenR_1.11.0.zip PackageFileSize: 1.799 MiB