Package: ScreenR Version: 1.9.0 Command: E:\biocbuild\bbs-3.21-bioc\R\bin\R.exe CMD INSTALL ScreenR StartedAt: 2025-02-14 15:31:52 -0500 (Fri, 14 Feb 2025) EndedAt: 2025-02-14 15:32:20 -0500 (Fri, 14 Feb 2025) EllapsedTime: 27.6 seconds RetCode: 0 Status: OK