Package: ScreenR Version: 1.9.0 Command: E:\biocbuild\bbs-3.21-bioc\R\bin\R.exe CMD check --no-multiarch --install=check:ScreenR.install-out.txt --library=E:\biocbuild\bbs-3.21-bioc\R\library --no-vignettes --timings ScreenR_1.9.0.tar.gz StartedAt: 2025-02-17 05:01:58 -0500 (Mon, 17 Feb 2025) EndedAt: 2025-02-17 05:07:07 -0500 (Mon, 17 Feb 2025) EllapsedTime: 309.2 seconds RetCode: 0 Status: OK CheckDir: ScreenR.Rcheck Warnings: 0