Package: ScaledMatrix Version: 1.17.0 Command: rm -rf ScaledMatrix.buildbin-libdir && mkdir ScaledMatrix.buildbin-libdir && F:\biocbuild\bbs-3.22-bioc\R\bin\R.exe CMD INSTALL --build --library=ScaledMatrix.buildbin-libdir ScaledMatrix_1.17.0.tar.gz StartedAt: 2025-08-15 11:13:40 -0400 (Fri, 15 Aug 2025) EndedAt: 2025-08-15 11:14:46 -0400 (Fri, 15 Aug 2025) EllapsedTime: 66.0 seconds RetCode: 0 Status: OK PackageFile: ScaledMatrix_1.17.0.zip PackageFileSize: 610.3 KiB