Package: ScaledMatrix Version: 1.17.0 Command: rm -rf ScaledMatrix.buildbin-libdir && mkdir ScaledMatrix.buildbin-libdir && /Users/biocbuild/BBS/utils/build-universal.sh ScaledMatrix_1.17.0.tar.gz /Library/Frameworks/R.framework/Resources/bin/R ScaledMatrix.buildbin-libdir StartedAt: 2025-05-18 22:17:37 -0400 (Sun, 18 May 2025) EndedAt: 2025-05-18 22:17:45 -0400 (Sun, 18 May 2025) EllapsedTime: 8.1 seconds RetCode: 0 Status: OK PackageFile: ScaledMatrix_1.17.0.tgz PackageFileSize: 606.3 KiB