Package: Scale4C Version: 1.31.1 Command: rm -rf Scale4C.buildbin-libdir && mkdir Scale4C.buildbin-libdir && F:\biocbuild\bbs-3.22-bioc\R\bin\R.exe CMD INSTALL --build --library=Scale4C.buildbin-libdir Scale4C_1.31.1.tar.gz StartedAt: 2025-08-15 11:13:37 -0400 (Fri, 15 Aug 2025) EndedAt: 2025-08-15 11:14:24 -0400 (Fri, 15 Aug 2025) EllapsedTime: 47.2 seconds RetCode: 0 Status: OK PackageFile: Scale4C_1.31.1.zip PackageFileSize: 2.158 MiB