Package: Scale4C Version: 1.31.0 Command: /Library/Frameworks/R.framework/Resources/bin/R CMD check --install=check:Scale4C.install-out.txt --library=/Library/Frameworks/R.framework/Resources/library --no-vignettes --timings Scale4C_1.31.0.tar.gz StartedAt: 2025-04-28 21:49:14 -0400 (Mon, 28 Apr 2025) EndedAt: 2025-04-28 21:50:30 -0400 (Mon, 28 Apr 2025) EllapsedTime: 76.0 seconds RetCode: 0 Status: OK CheckDir: Scale4C.Rcheck Warnings: 0