Package: SanityR Version: 0.99.3 Command: /home/biocbuild/bbs-3.22-bioc/R/bin/R CMD INSTALL SanityR StartedAt: 2025-10-08 15:31:08 -0400 (Wed, 08 Oct 2025) EndedAt: 2025-10-08 15:31:40 -0400 (Wed, 08 Oct 2025) EllapsedTime: 31.8 seconds RetCode: 0 Status: OK