Package: SanityR Version: 0.99.3 Command: /home/biocbuild/bbs-3.22-bioc/R/bin/R CMD build --keep-empty-dirs --no-resave-data --md5 SanityR StartedAt: 2025-10-08 20:10:55 -0400 (Wed, 08 Oct 2025) EndedAt: 2025-10-08 20:12:27 -0400 (Wed, 08 Oct 2025) EllapsedTime: 91.1 seconds RetCode: 0 Status: OK PackageFile: SanityR_0.99.3.tar.gz PackageFileSize: 672.1 KiB