Package: SanityR Version: 1.1.0 Command: /home/biocbuild/bbs-3.23-bioc/R/bin/R CMD INSTALL SanityR StartedAt: 2025-11-23 15:21:00 -0500 (Sun, 23 Nov 2025) EndedAt: 2025-11-23 15:21:30 -0500 (Sun, 23 Nov 2025) EllapsedTime: 30.3 seconds RetCode: 0 Status: OK