Package: SanityR Version: 1.1.0 Command: /Library/Frameworks/R.framework/Resources/bin/R CMD INSTALL SanityR StartedAt: 2025-11-21 15:26:45 -0500 (Fri, 21 Nov 2025) EndedAt: 2025-11-21 15:27:26 -0500 (Fri, 21 Nov 2025) EllapsedTime: 40.4 seconds RetCode: 0 Status: OK