Package: SanityR Version: 1.1.0 Command: /Library/Frameworks/R.framework/Resources/bin/R CMD build --keep-empty-dirs --no-resave-data SanityR StartedAt: 2025-11-21 18:30:53 -0500 (Fri, 21 Nov 2025) EndedAt: 2025-11-21 18:32:39 -0500 (Fri, 21 Nov 2025) EllapsedTime: 106.5 seconds RetCode: 0 Status: OK PackageFile: SanityR_1.1.0.tar.gz PackageFileSize: 765.1 KiB