Package: SanityR Version: 1.1.0 Command: rm -rf SanityR.buildbin-libdir && mkdir SanityR.buildbin-libdir && /Users/biocbuild/BBS/utils/build-universal.sh SanityR_1.1.0.tar.gz /Library/Frameworks/R.framework/Resources/bin/R SanityR.buildbin-libdir StartedAt: 2025-11-22 01:55:03 -0500 (Sat, 22 Nov 2025) EndedAt: 2025-11-22 01:55:54 -0500 (Sat, 22 Nov 2025) EllapsedTime: 50.9 seconds RetCode: 0 Status: OK PackageFile: SanityR_1.1.0.tgz PackageFileSize: 815.8 KiB