Package: SanityR Version: 1.1.0 Command: /Library/Frameworks/R.framework/Resources/bin/R CMD INSTALL SanityR StartedAt: 2025-11-23 15:12:52 -0500 (Sun, 23 Nov 2025) EndedAt: 2025-11-23 15:13:04 -0500 (Sun, 23 Nov 2025) EllapsedTime: 11.9 seconds RetCode: 0 Status: OK