Package: SanityR Version: 1.1.0 Command: rm -rf SanityR.buildbin-libdir && mkdir SanityR.buildbin-libdir && /Users/biocbuild/BBS/utils/build-universal.sh SanityR_1.1.0.tar.gz /Library/Frameworks/R.framework/Resources/bin/R SanityR.buildbin-libdir StartedAt: 2025-11-21 23:49:24 -0500 (Fri, 21 Nov 2025) EndedAt: 2025-11-21 23:49:39 -0500 (Fri, 21 Nov 2025) EllapsedTime: 15.3 seconds RetCode: 0 Status: OK PackageFile: SanityR_1.1.0.tgz PackageFileSize: 816.1 KiB