Package: SamSPECTRAL Version: 1.63.0 Command: rm -rf SamSPECTRAL.buildbin-libdir && mkdir SamSPECTRAL.buildbin-libdir && F:\biocbuild\bbs-3.22-bioc\R\bin\R.exe CMD INSTALL --build --library=SamSPECTRAL.buildbin-libdir SamSPECTRAL_1.63.0.tar.gz StartedAt: 2025-08-15 11:13:00 -0400 (Fri, 15 Aug 2025) EndedAt: 2025-08-15 11:13:22 -0400 (Fri, 15 Aug 2025) EllapsedTime: 22.1 seconds RetCode: 0 Status: OK PackageFile: SamSPECTRAL_1.63.0.zip PackageFileSize: 898.9 KiB