Package: SamSPECTRAL Version: 1.63.0 Maintainer: Habil MaintainerEmail: zare at u.washington.edu git_url: https://git.bioconductor.org/packages/SamSPECTRAL git_branch: devel git_last_commit: 83e19f9 git_last_commit_date: 2025-04-15 09:46:49 -0400 (Tue, 15 Apr 2025)