Package: SWATH2stats Version: 1.39.0 Command: /Library/Frameworks/R.framework/Resources/bin/R CMD INSTALL SWATH2stats StartedAt: 2025-05-09 15:22:52 -0400 (Fri, 09 May 2025) EndedAt: 2025-05-09 15:23:17 -0400 (Fri, 09 May 2025) EllapsedTime: 24.5 seconds RetCode: 0 Status: OK