Package: SWATH2stats Version: 1.39.0 Command: /Library/Frameworks/R.framework/Resources/bin/R CMD build --keep-empty-dirs --no-resave-data SWATH2stats StartedAt: 2025-05-09 18:43:33 -0400 (Fri, 09 May 2025) EndedAt: 2025-05-09 18:44:31 -0400 (Fri, 09 May 2025) EllapsedTime: 58.3 seconds RetCode: 0 Status: OK PackageFile: SWATH2stats_1.39.0.tar.gz PackageFileSize: 3.032 MiB